BEGIN:VCALENDAR
VERSION:2.0
PRODID:-//wp-events-plugin.com//7.2.3.1//EN
BEGIN:VEVENT
UID:12@zakelijkinbeeld.nl
DTSTART;TZID=Europe/Amsterdam:20231213T090000
DTEND;TZID=Europe/Amsterdam:20231213T123000
DTSTAMP:20231026T132246Z
URL:https://zakelijkinbeeld.nl/events/training-presenteren-13-december/
SUMMARY:Presentatie &#038\; mediatraining – dagdeel
DESCRIPTION:Wil jij beter leren presenteren? Voor de camera\, een live-publ
 iek of in de media? Wil je helder en overtuigend overkomen? Volg dan deze 
 Media &amp\; presentatietraining van Marije Alma op woensdagmorgen 13 dece
 mber!\n\nEn kijk op onze nieuwe locatiepagina voor de praktische informati
 e over de Gasfabriek in Deventer\, slechts een uurtje van Amsterdam!
LOCATION:Gasfabriek Deventer\, Zutphenseweg 6\, Deventer\, Gelderland\, 741
 8AJ\, Nederland
GEO:52.045155;5.871823
X-APPLE-STRUCTURED-LOCATION;VALUE=URI;X-ADDRESS=Zutphenseweg 6\, Deventer\,
  Gelderland\, 7418AJ\, Nederland;X-APPLE-RADIUS=100;X-TITLE=Gasfabriek Dev
 enter:geo:52.045155,5.871823
END:VEVENT
BEGIN:VTIMEZONE
TZID:Europe/Amsterdam
X-LIC-LOCATION:Europe/Amsterdam
BEGIN:STANDARD
DTSTART:20231029T020000
TZOFFSETFROM:+0200
TZOFFSETTO:+0100
TZNAME:CET
END:STANDARD
END:VTIMEZONE
END:VCALENDAR